BEGIN:VCALENDAR
VERSION:2.0
PRODID:-//www.fearlesshv.org//NONSGML kigkonsult.se iCalcreator 2.30.10//
CALSCALE:GREGORIAN
METHOD:PUBLISH
UID:e1ed6e7b-1e3d-4289-b3fb-15fbbfbda358
X-WR-CALDESC:On <b>February 16th</b>\, our Fearless! Offices are <i>closed<
 /i> for the holiday. \nIf you or someone you know needs assistance\, we ha
 ve advocates available 24/7 through our hotline - <a href='tel:8455625340'
 >845-562-5340</a>
X-WR-RELCALID:faa7ecab4fe287b34735e255bb9583aa
X-WR-TIMEZONE:America/New_York
BEGIN:VTIMEZONE
TZID:America/New_York
BEGIN:STANDARD
TZNAME:EST
DTSTART:20251102T020000
TZOFFSETFROM:-0400
TZOFFSETTO:-0500
RDATE:20261101T020000
END:STANDARD
BEGIN:DAYLIGHT
TZNAME:EDT
DTSTART:20250309T020000
TZOFFSETFROM:-0500
TZOFFSETTO:-0400
RDATE:20260308T020000
RDATE:20270314T020000
END:DAYLIGHT
END:VTIMEZONE
BEGIN:VEVENT
UID:d7d1a43d-1053-400e-a80f-67357fa861f8
DTSTAMP:20260420T082628Z
DESCRIPTION:On <b>February 16th</b>\, our Fearless! Offices are <i>closed</
 i> for the holiday. \nIf you or someone you know needs assistance\, we hav
 e advocates available 24/7 through our hotline - <a href='tel:8455625340'>
 845-562-5340</a>
DTSTART;TZID=America/New_York:20260216T060000
DTEND;TZID=America/New_York:20260216T060001
LOCATION:
SUMMARY:Offices Closed - Hotline Available
END:VEVENT
END:VCALENDAR
