BEGIN:VCALENDAR
VERSION:2.0
PRODID:-//www.fearlesshv.org//NONSGML kigkonsult.se iCalcreator 2.30.10//
CALSCALE:GREGORIAN
METHOD:PUBLISH
UID:27235a0a-0037-4f09-ab79-c513af89c140
X-WR-CALDESC:Fearless! alongside advocates\, survivors\, and communities na
 tionwide will be <b>wearing yellow</b> today for Stalking Awareness Day.\n
 \nWear yellow to show your support and commitment to:\n<ul>\n<li>Educating
  our community on the warning signs and realities of stalking</li>\n<li>Su
 pporting survivors with advocacy\, legal guidance\, and personalized safet
 y planning</li>\n<li>Promoting digital safety\, online evidence collection
 \, and privacy-based protection strategies</li>\n<li>Empowering our region
  to reclaim boundaries\, autonomy\, and safety </li>\n</ul>\n\nBe sure to 
 tag @FearlessHV\n<a href='https://www.facebook.com/fearlesshv'>Facebook</a
 > | <a href='https://www.instagram.com/fearlesshv/'>Instagram</a>
X-WR-RELCALID:2d8716fa49d89736f5dd29f4e2f9af86
X-WR-TIMEZONE:America/New_York
BEGIN:VTIMEZONE
TZID:America/New_York
BEGIN:STANDARD
TZNAME:EST
DTSTART:20271107T020000
TZOFFSETFROM:-0400
TZOFFSETTO:-0500
RDATE:20281105T020000
END:STANDARD
BEGIN:DAYLIGHT
TZNAME:EDT
DTSTART:20270314T020000
TZOFFSETFROM:-0500
TZOFFSETTO:-0400
RDATE:20280312T020000
RDATE:20290311T020000
END:DAYLIGHT
END:VTIMEZONE
BEGIN:VEVENT
UID:6f382a78-5c22-46b7-93c9-a3510b0b3f19
DTSTAMP:20260423T104116Z
DESCRIPTION:Fearless! alongside advocates\, survivors\, and communities nat
 ionwide will be <b>wearing yellow</b> today for Stalking Awareness Day.\n
 \nWear yellow to show your support and commitment to:\n<ul>\n<li>Educating
  our community on the warning signs and realities of stalking</li>\n<li>Su
 pporting survivors with advocacy\, legal guidance\, and personalized safet
 y planning</li>\n<li>Promoting digital safety\, online evidence collection
 \, and privacy-based protection strategies</li>\n<li>Empowering our region
  to reclaim boundaries\, autonomy\, and safety </li>\n</ul>\n\nBe sure to 
 tag @FearlessHV\n<a href='https://www.facebook.com/fearlesshv'>Facebook</a
 > | <a href='https://www.instagram.com/fearlesshv/'>Instagram</a>
DTSTART;TZID=America/New_York:20280118T060000
DTEND;TZID=America/New_York:20280118T060001
LOCATION:
SUMMARY:Wear Yellow
END:VEVENT
END:VCALENDAR
