BEGIN:VCALENDAR
VERSION:2.0
PRODID:-//www.fearlesshv.org//NONSGML kigkonsult.se iCalcreator 2.30.10//
CALSCALE:GREGORIAN
METHOD:PUBLISH
UID:e3bd5f6e-8683-42ce-9159-66e72b6e5cd7
X-WR-CALDESC:Fearless! alongside advocates\, survivors\, and communities na
 tionwide will be <b>wearing blue</b> today for Human Trafficking Awareness
  Day.\n\nWear blue to show your support and commitment to:<ul>\n  <li>Rais
 ing awareness of human trafficking in our region</li>\n  <li>Honoring surv
 ivors</li>\n  <li>Helping spread education and prevention resources</li>\n
   <li>Reclaiming safety together</li>\n</ul>\n\nBe sure to tag @FearlessHV
 \n<a href='https://www.facebook.com/fearlesshv'>Facebook</a> | <a href='ht
 tps://www.instagram.com/fearlesshv/'>Instagram</a>
X-WR-RELCALID:3034439b8aa22c6fda42b9a145ed3a15
X-WR-TIMEZONE:America/New_York
BEGIN:VTIMEZONE
TZID:America/New_York
BEGIN:STANDARD
TZNAME:EST
DTSTART:20271107T020000
TZOFFSETFROM:-0400
TZOFFSETTO:-0500
RDATE:20281105T020000
END:STANDARD
BEGIN:DAYLIGHT
TZNAME:EDT
DTSTART:20270314T020000
TZOFFSETFROM:-0500
TZOFFSETTO:-0400
RDATE:20280312T020000
RDATE:20290311T020000
END:DAYLIGHT
END:VTIMEZONE
BEGIN:VEVENT
UID:95a31902-ca35-4f7d-ade5-93341a7caaf5
DTSTAMP:20260423T104754Z
DESCRIPTION:Fearless! alongside advocates\, survivors\, and communities nat
 ionwide will be <b>wearing blue</b> today for Human Trafficking Awareness 
 Day.\n\nWear blue to show your support and commitment to:<ul>\n  <li>Raisi
 ng awareness of human trafficking in our region</li>\n  <li>Honoring survi
 vors</li>\n  <li>Helping spread education and prevention resources</li>\n 
  <li>Reclaiming safety together</li>\n</ul>\n\nBe sure to tag @FearlessHV
 \n<a href='https://www.facebook.com/fearlesshv'>Facebook</a> | <a href='ht
 tps://www.instagram.com/fearlesshv/'>Instagram</a>
DTSTART;TZID=America/New_York:20280111T060000
DTEND;TZID=America/New_York:20280111T060001
LOCATION:
SUMMARY:Wear Blue
END:VEVENT
END:VCALENDAR
