BEGIN:VCALENDAR
VERSION:2.0
PRODID:-//www.fearlesshv.org//NONSGML kigkonsult.se iCalcreator 2.30.10//
CALSCALE:GREGORIAN
METHOD:PUBLISH
UID:19873447-cc65-4229-864d-7c53bea4214e
X-WR-CALDESC:On <b>December 31st</b>\, our Fearless! Offices will <i>close 
 at 1 PM</i>.\nIf you or someone you know needs assistance\, we have advoca
 tes available 24/7 through our hotline - <a href='tel:8455625340'>845-562-
 5340</a>
X-WR-RELCALID:fde226d78516a8d7c837edee3c88f965
X-WR-TIMEZONE:America/New_York
BEGIN:VTIMEZONE
TZID:America/New_York
BEGIN:STANDARD
TZNAME:EST
DTSTART:20271107T020000
TZOFFSETFROM:-0400
TZOFFSETTO:-0500
RDATE:20281105T020000
END:STANDARD
BEGIN:DAYLIGHT
TZNAME:EDT
DTSTART:20270314T020000
TZOFFSETFROM:-0500
TZOFFSETTO:-0400
RDATE:20280312T020000
RDATE:20290311T020000
END:DAYLIGHT
END:VTIMEZONE
BEGIN:VEVENT
UID:f3d1bcbf-1051-46d2-9f8b-24d0c8795543
DTSTAMP:20260423T090808Z
DESCRIPTION:On <b>December 31st</b>\, our Fearless! Offices will <i>close a
 t 1 PM</i>.\nIf you or someone you know needs assistance\, we have advocat
 es available 24/7 through our hotline - <a href='tel:8455625340'>845-562-5
 340</a>
DTSTART;TZID=America/New_York:20271231T130000
DTEND;TZID=America/New_York:20271231T170000
LOCATION:
SUMMARY:Offices Close at 1PM - Hotline Available
END:VEVENT
END:VCALENDAR
