BEGIN:VCALENDAR
VERSION:2.0
PRODID:-//www.fearlesshv.org//NONSGML kigkonsult.se iCalcreator 2.30.10//
CALSCALE:GREGORIAN
METHOD:PUBLISH
UID:f2fefc5d-5626-4c67-944b-84e107b586e8
X-WR-CALDESC:On <b>December 25th</b>\, our Fearless! Offices are <i>closed<
 /i> for the holiday. \nIf you or someone you know needs assistance\, we ha
 ve advocates available 24/7 through our hotline - <a href='tel:8455625340'
 >845-562-5340</a>
X-WR-RELCALID:14d95f280a02467712f244c4ce6234f3
X-WR-TIMEZONE:America/New_York
BEGIN:VTIMEZONE
TZID:America/New_York
BEGIN:STANDARD
TZNAME:EST
DTSTART:20271107T020000
TZOFFSETFROM:-0400
TZOFFSETTO:-0500
RDATE:20281105T020000
END:STANDARD
BEGIN:DAYLIGHT
TZNAME:EDT
DTSTART:20270314T020000
TZOFFSETFROM:-0500
TZOFFSETTO:-0400
RDATE:20280312T020000
RDATE:20290311T020000
END:DAYLIGHT
END:VTIMEZONE
BEGIN:VEVENT
UID:aeb9ce0c-459d-419a-a480-f8d1e43ca07d
DTSTAMP:20260423T090936Z
DESCRIPTION:On <b>December 25th</b>\, our Fearless! Offices are <i>closed</
 i> for the holiday. \nIf you or someone you know needs assistance\, we hav
 e advocates available 24/7 through our hotline - <a href='tel:8455625340'>
 845-562-5340</a>
DTSTART;TZID=America/New_York:20271225T060000
DTEND;TZID=America/New_York:20271225T060001
LOCATION:
SUMMARY:Offices Closed - Hotline Available
END:VEVENT
END:VCALENDAR
