BEGIN:VCALENDAR
VERSION:2.0
PRODID:-//www.fearlesshv.org//NONSGML kigkonsult.se iCalcreator 2.30.10//
CALSCALE:GREGORIAN
METHOD:PUBLISH
UID:b5367d57-eae2-4bb4-8196-82904ff014e0
X-WR-CALDESC:On <b>December 24th</b>\, our Fearless! Offices will <i>close 
 at 1 PM</i>.\nIf you or someone you know needs assistance\, we have advoca
 tes available 24/7 through our hotline - <a href='tel:8455625340'>845-562-
 5340</a>
X-WR-RELCALID:22c63c762ac34461014d84a99820af75
X-WR-TIMEZONE:America/New_York
BEGIN:VTIMEZONE
TZID:America/New_York
BEGIN:STANDARD
TZNAME:EST
DTSTART:20271107T020000
TZOFFSETFROM:-0400
TZOFFSETTO:-0500
RDATE:20281105T020000
END:STANDARD
BEGIN:DAYLIGHT
TZNAME:EDT
DTSTART:20270314T020000
TZOFFSETFROM:-0500
TZOFFSETTO:-0400
RDATE:20280312T020000
RDATE:20290311T020000
END:DAYLIGHT
END:VTIMEZONE
BEGIN:VEVENT
UID:667792d6-cb30-4945-a662-4dffecb13d50
DTSTAMP:20260423T090808Z
DESCRIPTION:On <b>December 24th</b>\, our Fearless! Offices will <i>close a
 t 1 PM</i>.\nIf you or someone you know needs assistance\, we have advocat
 es available 24/7 through our hotline - <a href='tel:8455625340'>845-562-5
 340</a>
DTSTART;TZID=America/New_York:20271224T130000
DTEND;TZID=America/New_York:20271224T170000
LOCATION:
SUMMARY:Offices Close at 1PM - Hotline Available
END:VEVENT
END:VCALENDAR
