BEGIN:VCALENDAR
VERSION:2.0
PRODID:-//www.fearlesshv.org//NONSGML kigkonsult.se iCalcreator 2.30.10//
CALSCALE:GREGORIAN
METHOD:PUBLISH
UID:7940c131-6845-421a-971a-9fa56f7da8c9
X-WR-CALDESC:On <b>July 5th</b>\, our Fearless! Offices are <i>closed</i> f
 or the holiday. \nIf you or someone you know needs assistance\, we have ad
 vocates available 24/7 through our hotline - <a href='tel:8455625340'>845-
 562-5340</a>
X-WR-RELCALID:b9e7029baf45225970cc48fc4e3070df
X-WR-TIMEZONE:America/New_York
BEGIN:VTIMEZONE
TZID:America/New_York
BEGIN:STANDARD
TZNAME:EST
DTSTART:20261101T020000
TZOFFSETFROM:-0400
TZOFFSETTO:-0500
RDATE:20271107T020000
RDATE:20281105T020000
END:STANDARD
BEGIN:DAYLIGHT
TZNAME:EDT
DTSTART:20270314T020000
TZOFFSETFROM:-0500
TZOFFSETTO:-0400
RDATE:20280312T020000
END:DAYLIGHT
END:VTIMEZONE
BEGIN:VEVENT
UID:fd065dfd-0a24-41df-bb30-6d70da266fd1
DTSTAMP:20260423T021648Z
DESCRIPTION:On <b>July 5th</b>\, our Fearless! Offices are <i>closed</i> fo
 r the holiday. \nIf you or someone you know needs assistance\, we have adv
 ocates available 24/7 through our hotline - <a href='tel:8455625340'>845-5
 62-5340</a>
DTSTART;TZID=America/New_York:20270705T060000
DTEND;TZID=America/New_York:20270705T060001
LOCATION:
SUMMARY:Offices Closed - Hotline Available
END:VEVENT
END:VCALENDAR
