BEGIN:VCALENDAR
VERSION:2.0
PRODID:-//www.fearlesshv.org//NONSGML kigkonsult.se iCalcreator 2.30.10//
CALSCALE:GREGORIAN
METHOD:PUBLISH
UID:e15df869-7699-48b8-8268-67c8bda2d94d
X-WR-CALDESC:On <b>June 18th</b>\, our Fearless! Offices are <i>closed</i> 
 for the holiday. \nIf you or someone you know needs assistance\, we have a
 dvocates available 24/7 through our hotline - <a href='tel:8455625340'>845
 -562-5340</a>
X-WR-RELCALID:704cd35b62676e73a2fac97ca4192af2
X-WR-TIMEZONE:America/New_York
BEGIN:VTIMEZONE
TZID:America/New_York
BEGIN:STANDARD
TZNAME:EST
DTSTART:20261101T020000
TZOFFSETFROM:-0400
TZOFFSETTO:-0500
RDATE:20271107T020000
RDATE:20281105T020000
END:STANDARD
BEGIN:DAYLIGHT
TZNAME:EDT
DTSTART:20270314T020000
TZOFFSETFROM:-0500
TZOFFSETTO:-0400
RDATE:20280312T020000
END:DAYLIGHT
END:VTIMEZONE
BEGIN:VEVENT
UID:df19bd6f-44a5-41af-8d57-1ca6aff73134
DTSTAMP:20260423T003619Z
DESCRIPTION:On <b>June 18th</b>\, our Fearless! Offices are <i>closed</i> f
 or the holiday. \nIf you or someone you know needs assistance\, we have ad
 vocates available 24/7 through our hotline - <a href='tel:8455625340'>845-
 562-5340</a>
DTSTART;TZID=America/New_York:20270618T060000
DTEND;TZID=America/New_York:20270618T060001
LOCATION:
SUMMARY:Offices Closed - Hotline Available
END:VEVENT
END:VCALENDAR
