BEGIN:VCALENDAR
VERSION:2.0
PRODID:-//www.fearlesshv.org//NONSGML kigkonsult.se iCalcreator 2.30.10//
CALSCALE:GREGORIAN
METHOD:PUBLISH
UID:2facb96c-e6c6-48df-9367-6b9f165e8550
X-WR-CALDESC:Fearless! alongside advocates\, survivors\, and communities na
 tionwide will be <b>wearing blue</b> today for Human Trafficking Awareness
  Day.\n\nWear blue to show your support and commitment to:<ul>\n  <li>Rais
 ing awareness of human trafficking in our region</li>\n  <li>Honoring surv
 ivors</li>\n  <li>Helping spread education and prevention resources</li>\n
   <li>Reclaiming safety together</li>\n</ul>\n\nBe sure to tag @FearlessHV
 \n<a href='https://www.facebook.com/fearlesshv'>Facebook</a> | <a href='ht
 tps://www.instagram.com/fearlesshv/'>Instagram</a>
X-WR-RELCALID:6638a249a7ecebcdfc2c01b59f328b19
X-WR-TIMEZONE:America/New_York
BEGIN:VTIMEZONE
TZID:America/New_York
BEGIN:STANDARD
TZNAME:EST
DTSTART:20261101T020000
TZOFFSETFROM:-0400
TZOFFSETTO:-0500
RDATE:20271107T020000
END:STANDARD
BEGIN:DAYLIGHT
TZNAME:EDT
DTSTART:20260308T020000
TZOFFSETFROM:-0500
TZOFFSETTO:-0400
RDATE:20270314T020000
RDATE:20280312T020000
END:DAYLIGHT
END:VTIMEZONE
BEGIN:VEVENT
UID:1da2e6f7-000e-4e21-9ee9-4e58d0bb6187
DTSTAMP:20260422T164118Z
DESCRIPTION:Fearless! alongside advocates\, survivors\, and communities nat
 ionwide will be <b>wearing blue</b> today for Human Trafficking Awareness 
 Day.\n\nWear blue to show your support and commitment to:<ul>\n  <li>Raisi
 ng awareness of human trafficking in our region</li>\n  <li>Honoring survi
 vors</li>\n  <li>Helping spread education and prevention resources</li>\n 
  <li>Reclaiming safety together</li>\n</ul>\n\nBe sure to tag @FearlessHV
 \n<a href='https://www.facebook.com/fearlesshv'>Facebook</a> | <a href='ht
 tps://www.instagram.com/fearlesshv/'>Instagram</a>
DTSTART;TZID=America/New_York:20270111T060000
DTEND;TZID=America/New_York:20270111T060001
LOCATION:
SUMMARY:Wear Blue
END:VEVENT
END:VCALENDAR
