BEGIN:VCALENDAR
VERSION:2.0
PRODID:-//www.fearlesshv.org//NONSGML kigkonsult.se iCalcreator 2.30.10//
CALSCALE:GREGORIAN
METHOD:PUBLISH
UID:e54a23aa-2bb0-4e12-84a1-d9a33660e144
X-WR-CALDESC:On <b>December 25th</b>\, our Fearless! Offices are <i>closed<
 /i> for the holiday. \nIf you or someone you know needs assistance\, we ha
 ve advocates available 24/7 through our hotline - <a href='tel:8455625340'
 >845-562-5340</a>
X-WR-RELCALID:639b8c141a6548be9e42e81304283301
X-WR-TIMEZONE:America/New_York
BEGIN:VTIMEZONE
TZID:America/New_York
BEGIN:STANDARD
TZNAME:EST
DTSTART:20261101T020000
TZOFFSETFROM:-0400
TZOFFSETTO:-0500
RDATE:20271107T020000
END:STANDARD
BEGIN:DAYLIGHT
TZNAME:EDT
DTSTART:20260308T020000
TZOFFSETFROM:-0500
TZOFFSETTO:-0400
RDATE:20270314T020000
RDATE:20280312T020000
END:DAYLIGHT
END:VTIMEZONE
BEGIN:VEVENT
UID:2e701c59-4975-46dd-822a-c556b3b9f188
DTSTAMP:20260422T153042Z
DESCRIPTION:On <b>December 25th</b>\, our Fearless! Offices are <i>closed</
 i> for the holiday. \nIf you or someone you know needs assistance\, we hav
 e advocates available 24/7 through our hotline - <a href='tel:8455625340'>
 845-562-5340</a>
DTSTART;TZID=America/New_York:20261225T060000
DTEND;TZID=America/New_York:20261225T060001
LOCATION:
SUMMARY:Offices Closed - Hotline Available
END:VEVENT
END:VCALENDAR
