BEGIN:VCALENDAR
VERSION:2.0
PRODID:-//www.fearlesshv.org//NONSGML kigkonsult.se iCalcreator 2.30.10//
CALSCALE:GREGORIAN
METHOD:PUBLISH
UID:38b8d896-a983-4424-9ad2-c6575d70827f
X-WR-CALDESC:On <b>December 24th</b>\, our Fearless! Offices will <i>close 
 at 1 PM</i>.\nIf you or someone you know needs assistance\, we have advoca
 tes available 24/7 through our hotline - <a href='tel:8455625340'>845-562-
 5340</a>
X-WR-RELCALID:c2f7ee3fba7931ba15e81d8573df33fc
X-WR-TIMEZONE:America/New_York
BEGIN:VTIMEZONE
TZID:America/New_York
BEGIN:STANDARD
TZNAME:EST
DTSTART:20261101T020000
TZOFFSETFROM:-0400
TZOFFSETTO:-0500
RDATE:20271107T020000
END:STANDARD
BEGIN:DAYLIGHT
TZNAME:EDT
DTSTART:20260308T020000
TZOFFSETFROM:-0500
TZOFFSETTO:-0400
RDATE:20270314T020000
RDATE:20280312T020000
END:DAYLIGHT
END:VTIMEZONE
BEGIN:VEVENT
UID:34ee6667-8fe7-40c5-8a2d-3f6bc48334af
DTSTAMP:20260422T150359Z
DESCRIPTION:On <b>December 24th</b>\, our Fearless! Offices will <i>close a
 t 1 PM</i>.\nIf you or someone you know needs assistance\, we have advocat
 es available 24/7 through our hotline - <a href='tel:8455625340'>845-562-5
 340</a>
DTSTART;TZID=America/New_York:20261224T130000
DTEND;TZID=America/New_York:20261224T170000
LOCATION:
SUMMARY:Offices Close at 1PM - Hotline Available
END:VEVENT
END:VCALENDAR
