BEGIN:VCALENDAR
VERSION:2.0
PRODID:-//www.fearlesshv.org//NONSGML kigkonsult.se iCalcreator 2.30.10//
CALSCALE:GREGORIAN
METHOD:PUBLISH
UID:0e696c3c-2602-46bf-8ef7-6e3c03440301
X-WR-CALDESC:On <b>November 27th</b>\, our Fearless! Offices are <i>closed<
 /i> for the holiday. \nIf you or someone you know needs assistance\, we ha
 ve advocates available 24/7 through our hotline - <a href='tel:8455625340'
 >845-562-5340</a>
X-WR-RELCALID:bd07d77168aa70e6466c6bd33d821aa5
X-WR-TIMEZONE:America/New_York
BEGIN:VTIMEZONE
TZID:America/New_York
BEGIN:STANDARD
TZNAME:EST
DTSTART:20261101T020000
TZOFFSETFROM:-0400
TZOFFSETTO:-0500
RDATE:20271107T020000
END:STANDARD
BEGIN:DAYLIGHT
TZNAME:EDT
DTSTART:20260308T020000
TZOFFSETFROM:-0500
TZOFFSETTO:-0400
RDATE:20270314T020000
RDATE:20280312T020000
END:DAYLIGHT
END:VTIMEZONE
BEGIN:VEVENT
UID:c451a4b9-3622-4e9b-a141-fee86c3d5951
DTSTAMP:20260422T134355Z
DESCRIPTION:On <b>November 27th</b>\, our Fearless! Offices are <i>closed</
 i> for the holiday. \nIf you or someone you know needs assistance\, we hav
 e advocates available 24/7 through our hotline - <a href='tel:8455625340'>
 845-562-5340</a>
DTSTART;TZID=America/New_York:20261127T060000
DTEND;TZID=America/New_York:20261127T060001
LOCATION:
SUMMARY:Offices Closed - Hotline Available
END:VEVENT
END:VCALENDAR
