BEGIN:VCALENDAR
VERSION:2.0
PRODID:-//www.fearlesshv.org//NONSGML kigkonsult.se iCalcreator 2.30.10//
CALSCALE:GREGORIAN
METHOD:PUBLISH
UID:8376b6bb-8782-4cbe-b9ed-1e992ff4ef99
X-WR-CALDESC:Fearless! alongside advocates\, survivors\, and communities na
 tionwide will be <b>wearing purple</b> today for Domestic Violence Awarene
 ss Day.\n\nWear purple in support of awareness and action as we continue:
 \n<ul>\n<li>Educating our community on the signs and impact of domestic ab
 use</li>\n<li>Supporting survivors through advocacy\, safety planning\, an
 d crisis intervention</li>\n<li>Partnering with community organizations to
  expand prevention and support</li>\n<li>Empowering families and individua
 ls to reclaim safety and heal</li> \n</ul>\n\nBe sure to tag @FearlessHV\n
 <a href='https://www.facebook.com/fearlesshv'>Facebook</a> | <a href='http
 s://www.instagram.com/fearlesshv/'>Instagram</a>
X-WR-RELCALID:e6eb7d32a72556f77b860cd3c28c16cd
X-WR-TIMEZONE:America/New_York
BEGIN:VTIMEZONE
TZID:America/New_York
BEGIN:STANDARD
TZNAME:EST
DTSTART:20251102T020000
TZOFFSETFROM:-0400
TZOFFSETTO:-0500
RDATE:20261101T020000
RDATE:20271107T020000
END:STANDARD
BEGIN:DAYLIGHT
TZNAME:EDT
DTSTART:20260308T020000
TZOFFSETFROM:-0500
TZOFFSETTO:-0400
RDATE:20270314T020000
RDATE:20280312T020000
END:DAYLIGHT
END:VTIMEZONE
BEGIN:VEVENT
UID:2d5a7653-d714-4bed-bf5f-17fa7fae8435
DTSTAMP:20260422T114141Z
DESCRIPTION:Fearless! alongside advocates\, survivors\, and communities nat
 ionwide will be <b>wearing purple</b> today for Domestic Violence Awarenes
 s Day.\n\nWear purple in support of awareness and action as we continue:\n
 <ul>\n<li>Educating our community on the signs and impact of domestic abus
 e</li>\n<li>Supporting survivors through advocacy\, safety planning\, and 
 crisis intervention</li>\n<li>Partnering with community organizations to e
 xpand prevention and support</li>\n<li>Empowering families and individuals
  to reclaim safety and heal</li> \n</ul>\n\nBe sure to tag @FearlessHV\n<a
  href='https://www.facebook.com/fearlesshv'>Facebook</a> | <a href='https:
 //www.instagram.com/fearlesshv/'>Instagram</a>
DTSTART;TZID=America/New_York:20261015T060000
DTEND;TZID=America/New_York:20261015T060001
LOCATION:
SUMMARY:Wear Purple
END:VEVENT
END:VCALENDAR
