BEGIN:VCALENDAR
VERSION:2.0
PRODID:-//www.fearlesshv.org//NONSGML kigkonsult.se iCalcreator 2.30.10//
CALSCALE:GREGORIAN
METHOD:PUBLISH
UID:9ed1ebee-baa9-4b6d-a439-15f808f39720
X-WR-CALDESC:On <b>September 15th</b>\, our Fearless! Offices will <i>close
  at 12 PM</i>.\nIf you or someone you know needs assistance\, we have advo
 cates available 24/7 through our hotline - <a href='tel:8455625340'>845-56
 2-5340</a>
X-WR-RELCALID:c3655d19e5db0058be5ff8d9495e160b
X-WR-TIMEZONE:America/New_York
BEGIN:VTIMEZONE
TZID:America/New_York
BEGIN:STANDARD
TZNAME:EST
DTSTART:20251102T020000
TZOFFSETFROM:-0400
TZOFFSETTO:-0500
RDATE:20261101T020000
RDATE:20271107T020000
END:STANDARD
BEGIN:DAYLIGHT
TZNAME:EDT
DTSTART:20260308T020000
TZOFFSETFROM:-0500
TZOFFSETTO:-0400
RDATE:20270314T020000
RDATE:20280312T020000
END:DAYLIGHT
END:VTIMEZONE
BEGIN:VEVENT
UID:f56dd92f-61cb-42e3-89f8-42dd3241c39d
DTSTAMP:20260420T095417Z
DESCRIPTION:On <b>September 15th</b>\, our Fearless! Offices will <i>close 
 at 12 PM</i>.\nIf you or someone you know needs assistance\, we have advoc
 ates available 24/7 through our hotline - <a href='tel:8455625340'>845-562
 -5340</a>
DTSTART;TZID=America/New_York:20260915T120000
DTEND;TZID=America/New_York:20260915T170000
LOCATION:
SUMMARY:Offices Close at 12PM - Hotline Available
END:VEVENT
END:VCALENDAR
