BEGIN:VCALENDAR
VERSION:2.0
PRODID:-//www.fearlesshv.org//NONSGML kigkonsult.se iCalcreator 2.30.10//
CALSCALE:GREGORIAN
METHOD:PUBLISH
UID:c84761ab-c662-42dc-ab2b-60133d413503
X-WR-CALDESC:On <b>August 18th/b>\, our Fearless! Offices will <i>close at 
 1 PM</i>.\nIf you or someone you know needs assistance\, we have advocates
  available 24/7 through our hotline - <a href='tel:8455625340'>845-562-534
 0</a></b>
X-WR-RELCALID:c502ce1b2f49e74000238f9e6c0bfbbd
X-WR-TIMEZONE:America/New_York
BEGIN:VTIMEZONE
TZID:America/New_York
BEGIN:STANDARD
TZNAME:EST
DTSTART:20251102T020000
TZOFFSETFROM:-0400
TZOFFSETTO:-0500
RDATE:20261101T020000
RDATE:20271107T020000
END:STANDARD
BEGIN:DAYLIGHT
TZNAME:EDT
DTSTART:20260308T020000
TZOFFSETFROM:-0500
TZOFFSETTO:-0400
RDATE:20270314T020000
END:DAYLIGHT
END:VTIMEZONE
BEGIN:VEVENT
UID:7c692121-50c3-4637-bfc3-5ece95c1e6c6
DTSTAMP:20260422T085616Z
DESCRIPTION:On <b>August 18th/b>\, our Fearless! Offices will <i>close at 1
  PM</i>.\nIf you or someone you know needs assistance\, we have advocates 
 available 24/7 through our hotline - <a href='tel:8455625340'>845-562-5340
 </a></b>
DTSTART;TZID=America/New_York:20260818T130000
DTEND;TZID=America/New_York:20260818T170000
LOCATION:
SUMMARY:Offices Close at 1PM - Hotline Available
END:VEVENT
END:VCALENDAR
