BEGIN:VCALENDAR
VERSION:2.0
PRODID:-//www.fearlesshv.org//NONSGML kigkonsult.se iCalcreator 2.30.10//
CALSCALE:GREGORIAN
METHOD:PUBLISH
UID:2f260fa0-0501-49af-8a1a-590638df88c6
X-WR-CALDESC:The virtual training will cover the forced sex and labor traff
 icking industries\, and the impact of this abusive pattern of behavior on 
 trafficking survivors. The training will also include information on Orang
 e County Safe Harbor Program\, which is the County’s response to Child Sex
  Trafficking. Please join us as we explore together ways to support surviv
 ors of trafficking\, and hold offenders accountable.
X-WR-RELCALID:dc1d9d2e20ec993e6d5a677c2c4c1781
X-WR-TIMEZONE:America/New_York
BEGIN:VTIMEZONE
TZID:America/New_York
BEGIN:STANDARD
TZNAME:EST
DTSTART:20251102T020000
TZOFFSETFROM:-0400
TZOFFSETTO:-0500
RDATE:20261101T020000
END:STANDARD
BEGIN:DAYLIGHT
TZNAME:EDT
DTSTART:20250309T020000
TZOFFSETFROM:-0500
TZOFFSETTO:-0400
RDATE:20260308T020000
RDATE:20270314T020000
END:DAYLIGHT
END:VTIMEZONE
BEGIN:VEVENT
UID:73f55b81-044e-4b07-9ea2-c58e9c105f61
DTSTAMP:20260421T160200Z
DESCRIPTION:The virtual training will cover the forced sex and labor traffi
 cking industries\, and the impact of this abusive pattern of behavior on t
 rafficking survivors. The training will also include information on Orange
  County Safe Harbor Program\, which is the County’s response to Child Sex 
 Trafficking. Please join us as we explore together ways to support survivo
 rs of trafficking\, and hold offenders accountable.
DTSTART;TZID=America/New_York:20260113T180000
DTEND;TZID=America/New_York:20260113T184500
LOCATION:Zoom
SUMMARY:Human Trafficking 101 - Virtual Training
END:VEVENT
END:VCALENDAR
