BEGIN:VCALENDAR
VERSION:2.0
PRODID:-//www.fearlesshv.org//NONSGML kigkonsult.se iCalcreator 2.30.10//
CALSCALE:GREGORIAN
METHOD:PUBLISH
UID:5fc5a1a3-a18c-4581-aa73-765934457b85
X-WR-CALDESC:On <b>December 25th</b>\, our Fearless! Offices are <i>closed<
 /i> for the holiday. \nIf you or someone you know needs assistance\, we ha
 ve advocates available 24/7 through our hotline - <a href='tel:8455625340'
 >845-562-5340</a>
X-WR-RELCALID:d7cca73e491d7d6b05045c6ecaa7d5c7
X-WR-TIMEZONE:America/New_York
BEGIN:VTIMEZONE
TZID:America/New_York
BEGIN:STANDARD
TZNAME:EST
DTSTART:20251102T020000
TZOFFSETFROM:-0400
TZOFFSETTO:-0500
RDATE:20261101T020000
END:STANDARD
BEGIN:DAYLIGHT
TZNAME:EDT
DTSTART:20250309T020000
TZOFFSETFROM:-0500
TZOFFSETTO:-0400
RDATE:20260308T020000
RDATE:20270314T020000
END:DAYLIGHT
END:VTIMEZONE
BEGIN:VEVENT
UID:ac23b293-3ee1-4e15-b1a4-e3bfca26c8cc
DTSTAMP:20260420T112003Z
DESCRIPTION:On <b>December 25th</b>\, our Fearless! Offices are <i>closed</
 i> for the holiday. \nIf you or someone you know needs assistance\, we hav
 e advocates available 24/7 through our hotline - <a href='tel:8455625340'>
 845-562-5340</a>
DTSTART;TZID=America/New_York:20251225T060000
DTEND;TZID=America/New_York:20251225T060001
LOCATION:
SUMMARY:Offices Closed - Hotline Available
END:VEVENT
END:VCALENDAR
