BEGIN:VCALENDAR
VERSION:2.0
PRODID:-//www.fearlesshv.org//NONSGML kigkonsult.se iCalcreator 2.30.10//
CALSCALE:GREGORIAN
METHOD:PUBLISH
UID:1887daa3-b394-48cf-a94b-654ab94d8f29
X-WR-CALDESC:On <b>December 24th</b>\, our Fearless! Offices will <i>close 
 at 1 PM</i>.\nIf you or someone you know needs assistance\, we have advoca
 tes available 24/7 through our hotline - <a href='tel:8455625340'>845-562-
 5340</a>
X-WR-RELCALID:548db304cdce272cfd4fb5d16959013c
X-WR-TIMEZONE:America/New_York
BEGIN:VTIMEZONE
TZID:America/New_York
BEGIN:STANDARD
TZNAME:EST
DTSTART:20251102T020000
TZOFFSETFROM:-0400
TZOFFSETTO:-0500
RDATE:20261101T020000
END:STANDARD
BEGIN:DAYLIGHT
TZNAME:EDT
DTSTART:20250309T020000
TZOFFSETFROM:-0500
TZOFFSETTO:-0400
RDATE:20260308T020000
RDATE:20270314T020000
END:DAYLIGHT
END:VTIMEZONE
BEGIN:VEVENT
UID:d5f9b380-b275-4941-8b92-8b3c1892ad4f
DTSTAMP:20260420T112950Z
DESCRIPTION:On <b>December 24th</b>\, our Fearless! Offices will <i>close a
 t 1 PM</i>.\nIf you or someone you know needs assistance\, we have advocat
 es available 24/7 through our hotline - <a href='tel:8455625340'>845-562-5
 340</a>
DTSTART;TZID=America/New_York:20251224T130000
DTEND;TZID=America/New_York:20251224T170000
LOCATION:
SUMMARY:Offices Close at 1PM - Hotline Available
END:VEVENT
END:VCALENDAR
