BEGIN:VCALENDAR
VERSION:2.0
PRODID:-//www.fearlesshv.org//NONSGML kigkonsult.se iCalcreator 2.30.10//
CALSCALE:GREGORIAN
METHOD:PUBLISH
UID:8f56fad7-e0d2-4515-85a9-2bcad840a754
X-WR-CALDESC:On <b> Tuesday\, December 16th</b>\, our Fearless! Offices wil
 l <i>close at 2 pm</i>.\nIf you or someone you know needs assistance\, we 
 have advocates available 24/7 through our hotline - <a href='tel:845562534
 0'>845-562-5340</a>
X-WR-RELCALID:64d0270ba12e0e55186091e67df2f179
X-WR-TIMEZONE:America/New_York
BEGIN:VTIMEZONE
TZID:America/New_York
BEGIN:STANDARD
TZNAME:EST
DTSTART:20251102T020000
TZOFFSETFROM:-0400
TZOFFSETTO:-0500
RDATE:20261101T020000
END:STANDARD
BEGIN:DAYLIGHT
TZNAME:EDT
DTSTART:20250309T020000
TZOFFSETFROM:-0500
TZOFFSETTO:-0400
RDATE:20260308T020000
RDATE:20270314T020000
END:DAYLIGHT
END:VTIMEZONE
BEGIN:VEVENT
UID:25146d52-782d-454d-8fcf-7ab513fb5271
DTSTAMP:20260420T111403Z
DESCRIPTION:On <b> Tuesday\, December 16th</b>\, our Fearless! Offices will
  <i>close at 2 pm</i>.\nIf you or someone you know needs assistance\, we h
 ave advocates available 24/7 through our hotline - <a href='tel:8455625340
 '>845-562-5340</a>
DTSTART;TZID=America/New_York:20251216T140000
DTEND;TZID=America/New_York:20251216T170000
LOCATION:
SUMMARY:Offices Close at 2PM - Hotline Available
END:VEVENT
END:VCALENDAR
