BEGIN:VCALENDAR
VERSION:2.0
PRODID:-//www.fearlesshv.org//NONSGML kigkonsult.se iCalcreator 2.30.10//
CALSCALE:GREGORIAN
METHOD:PUBLISH
UID:efbf6805-14fb-4cd8-b47f-30138efec94c
X-WR-CALDESC:On <b>July 4th</b>\, our Fearless! Offices are <i>closed</i> f
 or the holiday. \nIf you or someone you know needs assistance\, we have ad
 vocates available 24/7 through our hotline - <a href='tel:8455625340'>845-
 562-5340</a>
X-WR-RELCALID:3d766830c9fca7468ee351c1661d122e
X-WR-TIMEZONE:America/New_York
BEGIN:VTIMEZONE
TZID:America/New_York
BEGIN:STANDARD
TZNAME:EST
DTSTART:20241103T020000
TZOFFSETFROM:-0400
TZOFFSETTO:-0500
RDATE:20251102T020000
RDATE:20261101T020000
END:STANDARD
BEGIN:DAYLIGHT
TZNAME:EDT
DTSTART:20250309T020000
TZOFFSETFROM:-0500
TZOFFSETTO:-0400
RDATE:20260308T020000
END:DAYLIGHT
END:VTIMEZONE
BEGIN:VEVENT
UID:4c77f38a-714c-4578-b200-45af18e0a2cd
DTSTAMP:20260420T095011Z
DESCRIPTION:On <b>July 4th</b>\, our Fearless! Offices are <i>closed</i> fo
 r the holiday. \nIf you or someone you know needs assistance\, we have adv
 ocates available 24/7 through our hotline - <a href='tel:8455625340'>845-5
 62-5340</a>
DTSTART;TZID=America/New_York:20250704T060000
DTEND;TZID=America/New_York:20250704T060001
LOCATION:
SUMMARY:Offices Closed - Hotline Available
END:VEVENT
END:VCALENDAR
